BEGIN:VCALENDAR
VERSION:2.0
PRODID:-//217.160.0.5//NONSGML kigkonsult.se iCalcreator 2.20//
CALSCALE:GREGORIAN
METHOD:PUBLISH
X-WR-TIMEZONE:Europe/Berlin
BEGIN:VEVENT
UID:event90@Duisburger Segel-Club e.V.
DTSTAMP:20260421T124502Z
CATEGORIES:ohne
DESCRIPTION:Jahreshauptversammlung\nKategorie: ohne\nICS-Link: https://duis
 burgersegelclub.de/index.php?option=com_jem&view=event&id=90:jahreshauptve
 rsammlung\n
DTSTART;TZID=Europe/Berlin:20260308T110000
DTEND;TZID=Europe/Berlin:20260308T110000
LOCATION:Clubhaus des DSC\,Kalkweg 239b\,47279 Duisburg
SUMMARY:Jahreshauptversammlung
URL:https://duisburgersegelclub.de/index.php?option=com_jem&view=event&id=9
 0:jahreshauptversammlung
END:VEVENT
END:VCALENDAR
